BEGIN:VCALENDAR
VERSION:2.0
PRODID:-//Zingerman&#039;s Roadhouse - ECPv6.15.13.1//NONSGML v1.0//EN
CALSCALE:GREGORIAN
METHOD:PUBLISH
X-WR-CALNAME:Zingerman&#039;s Roadhouse
X-ORIGINAL-URL:https://stage.zingermansroadhouse.com
X-WR-CALDESC:Events for Zingerman&#039;s Roadhouse
REFRESH-INTERVAL;VALUE=DURATION:PT1H
X-Robots-Tag:noindex
X-PUBLISHED-TTL:PT1H
BEGIN:VTIMEZONE
TZID:America/Detroit
BEGIN:DAYLIGHT
TZOFFSETFROM:-0500
TZOFFSETTO:-0400
TZNAME:EDT
DTSTART:20220313T070000
END:DAYLIGHT
BEGIN:STANDARD
TZOFFSETFROM:-0400
TZOFFSETTO:-0500
TZNAME:EST
DTSTART:20221106T060000
END:STANDARD
BEGIN:DAYLIGHT
TZOFFSETFROM:-0500
TZOFFSETTO:-0400
TZNAME:EDT
DTSTART:20230312T070000
END:DAYLIGHT
BEGIN:STANDARD
TZOFFSETFROM:-0400
TZOFFSETTO:-0500
TZNAME:EST
DTSTART:20231105T060000
END:STANDARD
BEGIN:DAYLIGHT
TZOFFSETFROM:-0500
TZOFFSETTO:-0400
TZNAME:EDT
DTSTART:20240310T070000
END:DAYLIGHT
BEGIN:STANDARD
TZOFFSETFROM:-0400
TZOFFSETTO:-0500
TZNAME:EST
DTSTART:20241103T060000
END:STANDARD
END:VTIMEZONE
BEGIN:VEVENT
DTSTART;TZID=America/Detroit:20230411T190000
DTEND;TZID=America/Detroit:20230411T210000
DTSTAMP:20260423T022557
CREATED:20230324T210151Z
LAST-MODIFIED:20230408T220321Z
UID:19485-1681239600-1681246800@stage.zingermansroadhouse.com
SUMMARY:Alabama Chanin Book Event: One Night Only with Author Natalie Chanin
DESCRIPTION:[et_pb_section][et_pb_row][et_pb_column type=”4_4″][et_pb_text] \nThe Threads That Connect Us\nOne night only with author Natalie Chanin\n\nApril 11\, 7pm – 9pm\nTickets: $40\nBook: $33 \nAuthor\, fashion designer\, slow design pioneer\, and friend of the Roadhouse Natalie Chanin will be joining us for a special evening on Tuesday\, April 11th at 7 pm. You won’t want to miss this talk (or the snacks!). \nMuch like it would be true to say that the Roadhouse is a barbecue restaurant\, you could say that Natalie’s company\, Alabama Chanin® is a textile company. But that would be overlooking the nuances that make us both special. We’re passionate about American foodways and dedicated to using great ingredients and supporting small artisan producers. Natalie’s passionate about slow design and zero-waste fashion and is dedicated to creating locally sewn garments and goods using organic and recycled materials. You might say we’re both all about community and preserving tradition. As Natalie says\, \nI’ve come to believe that craft\, making\, and creative endeavors toward producing sustainable products will create an enduring future for our community. \nAlabama Chanin and The School of Making® are based in Florence\, Alabama\, an area with a rich heritage of quilting. Natalie employs local women to help sew her thoughtfully designed handmade garments and home goods\, carrying on the region’s tradition at the same time. In her sixth book\, Embroidery: Threads and Stories from Alabama Chanin and The School of Making (Abrams\, October 2022)\, Natalie shares the origins and evolution of Alabama Chanin and the School of Making. Seamlessly pulling together seemingly disparate threads—from personal stories to musings on the ethics of textile production to lessons in sewing—this book is an empowering guide for all who love design and craft. \nEnjoy some of our favorite Roadhouse appetizers\, while Ari Weinzweig\, Zingerman’s CEO and Co-founder\, leads a conversation with Natalie. She’ll be sharing stories and talking about her newly released book. Join us to turn an average Tuesday into something special. Space is limited\, so sign up and save your seat today. \n[/et_pb_text][/et_pb_column][/et_pb_row][/et_pb_section]
URL:https://stage.zingermansroadhouse.com/event/alabama-chanin-one-night-only-with-author-natalie-chanin/
LOCATION:Zingerman’s Roadhouse\, 2501 Jackson Ave\, Ann Arbor\, MI\, 48103\, United States
ATTACH;FMTTYPE=image/jpeg:https://stage.zingermansroadhouse.com/app/uploads/2023/03/Alabama-Chanin-Natalie-Chanin-Headshot-Photo-by-Rinne-Allen-3-scaled.jpg
ORGANIZER;CN="Zingerman's Roadhouse":MAILTO:roadhouse@zingermans.com
END:VEVENT
BEGIN:VEVENT
DTSTART;TZID=America/Detroit:20230328T190000
DTEND;TZID=America/Detroit:20230328T203000
DTSTAMP:20260423T022557
CREATED:20230223T195215Z
LAST-MODIFIED:20230228T171042Z
UID:19216-1680030000-1680035400@stage.zingermansroadhouse.com
SUMMARY:Bring Your Best Self to the Table
DESCRIPTION:A book event with Author Anese Cavanaugh\nIn collaboration with ZingTrain\, the Roadhouse is thrilled to welcome author\, speaker\, and friend of the Roadhouse Anese Cavanaugh for a special event on Tuesday\, March 28th at 7 pm\, We don’t want you to miss it! \nAnese is a strategist and advisor to leaders and organizations around the world\, has been interviewed on a variety of television and radio programs and podcasts\, and has been featured in publications like Harvard Business Review\, Forbes\, Inc.\, and the New York Times. Saying we’re lucky to have her join us feels like an understatement! \nAs a leading voice on intention\, energy\, and presence in leadership and culture\, she helps people gain greater access to their own secret sauce for showing up more powerfully\, collaborating more inspiringly\, creating more openly\, intuiting more bravely\, and leading more joyfully and effectively. Anese says she knows one thing for sure: \nPeople are human; they want to connect\, they want to be seen\, they want to know they matter\, and they want to have impact\, and when you give them the space to Show Up with authenticity\, intention\, energy\, presence\, and love — magic happens. \nWe’ve been adapting her innovative energy management into what we do every day in the Zingerman’s Community for over a decade now. Ari wrote about her work in his book A Lapsed Anarchist Approach to Being a Better Leader (part 2 of his Business Book series). Her latest book\, Contagious You: Unlock Your Power to Influence\, Lead\, and Create the Impact You Want\, is especially focused on the individual—showing how each of us is contagious in our own way and stressing the importance of leading with intention to achieve positive results. It was released at the end of 2019 (a few short months prior to a time when\, admittedly\, the title could’ve reflected an entirely different topic!)\, and\, as we come out of the pandemic\, finding new ways of working\, engaging\, and being in the world\, we know that the contagious nature of our energy and emotions (and\, yes\, our health\, too) is more important than ever to pay attention to. \nAt the event (her first book event since the start of the pandemic!)\, we’ll be serving some of Anese’s favorite Roadhouse appetizers while Ari Weinzweig\, Zingerman’s CEO and Co-founder\, leads a conversation with Anese. She’ll be sharing stories\, insights\, and practical ways to implement her life-altering energy work. Some of the Roadhouse staff will chime in as well to talk about how Anese’s teachings have made a meaningful difference in their lives\, both at work and in their personal lives.
URL:https://stage.zingermansroadhouse.com/event/bring-your-best-self/
LOCATION:Zingerman’s Roadhouse\, 2501 Jackson Ave\, Ann Arbor\, MI\, 48103\, United States
CATEGORIES:Special Event
ATTACH;FMTTYPE=image/jpeg:https://stage.zingermansroadhouse.com/app/uploads/2023/02/83128383_10222162572473764_1216051528083701760_n.jpg
ORGANIZER;CN="Zingerman's Roadhouse":MAILTO:roadhouse@zingermans.com
END:VEVENT
BEGIN:VEVENT
DTSTART;TZID=America/Detroit:20230314T190000
DTEND;TZID=America/Detroit:20230314T210000
DTSTAMP:20260423T022557
CREATED:20230126T210746Z
LAST-MODIFIED:20230201T162044Z
UID:18868-1678820400-1678827600@stage.zingermansroadhouse.com
SUMMARY:Jelly Bean Jump Up Special Dinner
DESCRIPTION:Special Event: 8th Annual Jelly Bean Jump Up\nWith Alaska’s Shoreline Wild Salmon\nZingerman’s Roadhouse | Tuesday\, March 14th | 7 p.m. | $90 + donation options\nOur 8th Annual Jelly Bean Jump Up special dinner\, benefitting SafeHouse Center\, will feature wild Alaskan salmon – one of the jewels of the American culinary crown – from Shoreline Wild Salmon.  \nWe’re thrilled to welcome Marie Rose\, Michigan native and co-founder of Shoreline Wild Salmon\, and her partners Joe Emerson and Keith Heller for this special dinner in support of SafeHouse Center. This will be the Roadhouse’s fourth dinner supporting Jelly Bean Jump Up—Marie and her team were part of the last one back in 2020! The dinner will\, of course\, feature lots of wild-caught Alaskan salmon–one of the jewels of the American culinary crown–from Shoreline Wild Salmon. \nMarie has a personal passion for SafeHouse Center’s mission. Marie Rose earned her degree in Social Work from Michigan State\, where much of her advocacy work focused on domestic violence awareness. Marie’s background in social work and her experience in the salmon business has taught her the importance of sustainability\, connection and individual access to resources. \nJoin us and the Shoreline crew while they showcase their delicious salmon at the 8th Annual Jelly Bean Jump Up\, and help us raise awareness and funds for Ann Arbor’s SafeHouse Center. \nThis special dinner will also include a silent auction\, featuring items from local community partners. \nYou can also join us at the State Theater Monday March 13 for a film screening of a documentary featuring Marie Rose from Shoreline Wild Salmon. Proceeds will also go to SafeHouse Center. \n  \nMenu\n  \nAppetizer\nSmoked Coho Salmon Taco\nHouse-smoked Coho salmon and hoecake taco\, with roasted poblano salsa. \nSalad\nSalmon Cake Salad\nWith lemon aioli and fresh greens. \nEntrée\nRoasted Lingcod & Polenta\nAlaskan lingcod with tarragon butter\, over Anson Mills’ Red Flint Polenta Integrale. Topped with fresh herbs.  \nCoho Salmon & Bacon \nSautéed Coho salmon served over a parsnips and herb mash. Topped with a scallion and bacon salad.  \nDessert\nBlueberry Betty with Lemon Curd\nBlueberry and sweet crumb layers topped with lemon curd. \n  \nPlease select the number of tickets for your chosen entree\, then click on Get Tickets
URL:https://stage.zingermansroadhouse.com/event/jelly-bean-jump-up-special-dinner/
LOCATION:Zingerman’s Roadhouse\, 2501 Jackson Ave\, Ann Arbor\, MI\, 48103\, United States
CATEGORIES:Special Event
ATTACH;FMTTYPE=image/png:https://stage.zingermansroadhouse.com/app/uploads/2020/08/ShorelineSalmonMarie-1.png
ORGANIZER;CN="Zingerman's Roadhouse":MAILTO:roadhouse@zingermans.com
END:VEVENT
BEGIN:VEVENT
DTSTART;TZID=America/Detroit:20230313T190000
DTEND;TZID=America/Detroit:20230313T190000
DTSTAMP:20260423T022557
CREATED:20230126T000300Z
LAST-MODIFIED:20230201T163101Z
UID:18913-1678734000-1678734000@stage.zingermansroadhouse.com
SUMMARY:Zingerman's Jelly Bean Jump Up Film Screening
DESCRIPTION:Zingerman’s Jelly Bean Jump Up Film Screening: “Empowered: Women Shaping The Future”\nFeaturing Marie Rose from Shoreline Wild Salmon\nState Theatre | Monday\, March 13th | 7pm | $40 / $30 for students\nThe Roadhouse is excited to partner with the State Theater for a very exclusive event. On March 13th\, please join us for a screening of “Empowered: Women Shaping the Future”\, directed and produced by Christina Rose. Empowered is a documentary series about young women making a major impact serving in leadership positions in underrepresented industries. (The filmmakers define underrepresented as those in which 15% or less of a given profession has women in key positions.)  \nEach episode features one woman—a Puerto Rican baseball player\, a Boeing 777 pilot from India\, a race car driver from Hungary—telling the story of their journey\, their hardships\, their impact\, and what they hope to achieve for future generations. \nTogether\, we’ll watch Episode 1\, “Finding Home\,” featuring Marie Rose (Christina’s cousin) from Shoreline Salmon in Alaska. Marie will be joining us for Q&A after the screening\, and she is also our special guest for our Jelly Bean Jump Up special dinner at the Roadhouse on March 14th! \nMarie Rose is a fisher woman and co-founder of the company Shoreline Wild Salmon\, which distributes wild caught Alaskan salmon throughout the United States. Originally from Battle Creek Michigan\, Marie early on knew she had a trait of making a difference in the world. But it wasn’t the spirit of adventure that drove her to leave\, rather an abusive relationship that left its scars. While getting a look into Marie’s work as a fisher woman and how she and her two business partners\, Joe and Keith\, catch and distribute their salmon within Michigan\, we learn of Marie’s personal journey of finding her new home and coming to terms with past demons.  \nThis is an episode that touches on themes of domestic violence\, resilience\, and adventure on a journey of sacrifice\, and determination\, which also happens to be similar to the journey of the salmon. Told she would never achieve success\, Marie is a force of nature\, as she grows into a successful businesswoman and a caring person interested only in the welfare of others.  \nSee details for our Jelly Bean Jump Up Special Dinner Event \nOrder Tickets at State Theater ?\nDonate to SafeHouse\nSafeHouse Center’s mission is to provide safety\, support\, advocacy and resources for survivors of sexual assault and intimate partner domestic violence and their children\, AND to work relentlessly to change the systems and attitudes that allow this abuse to continue. \n\n\n	\n		Jelly Bean Jump Up – SafeHouse Donation\n		\n	\n								\n	\n		\n\n	\n				Jelly Bean Jump Up Donation Levels	\n				\n								\n						\n												Jump Start - $100					\n										\n						\n												Trampoline Jump - $200					\n										\n						\n												Bounce House - $500					\n										\n						\n												Pole Vault - $750					\n										\n						\n												Rocket Launchpad - $1\,000					\n								\n			\n\n		\n\n	\n	\n	Donate\n	\n	\n\n 
URL:https://stage.zingermansroadhouse.com/event/8th-annual-jelly-bean-jump-up-film-screening/
LOCATION:State Theatre\, 233 S State St\, Ann Arbor\, 48104\, United States
CATEGORIES:Special Event
ATTACH;FMTTYPE=image/jpeg:https://stage.zingermansroadhouse.com/app/uploads/2023/01/Zingerman_1080x450-e1675210778447.jpg
ORGANIZER;CN="Zingerman's Roadhouse":MAILTO:roadhouse@zingermans.com
END:VEVENT
END:VCALENDAR