BEGIN:VCALENDAR
VERSION:2.0
PRODID:-//Zingerman&#039;s Roadhouse - ECPv6.15.13.1//NONSGML v1.0//EN
CALSCALE:GREGORIAN
METHOD:PUBLISH
X-WR-CALNAME:Zingerman&#039;s Roadhouse
X-ORIGINAL-URL:https://stage.zingermansroadhouse.com
X-WR-CALDESC:Events for Zingerman&#039;s Roadhouse
REFRESH-INTERVAL;VALUE=DURATION:PT1H
X-Robots-Tag:noindex
X-PUBLISHED-TTL:PT1H
BEGIN:VTIMEZONE
TZID:America/Detroit
BEGIN:DAYLIGHT
TZOFFSETFROM:-0500
TZOFFSETTO:-0400
TZNAME:EDT
DTSTART:20220313T070000
END:DAYLIGHT
BEGIN:STANDARD
TZOFFSETFROM:-0400
TZOFFSETTO:-0500
TZNAME:EST
DTSTART:20221106T060000
END:STANDARD
BEGIN:DAYLIGHT
TZOFFSETFROM:-0500
TZOFFSETTO:-0400
TZNAME:EDT
DTSTART:20230312T070000
END:DAYLIGHT
BEGIN:STANDARD
TZOFFSETFROM:-0400
TZOFFSETTO:-0500
TZNAME:EST
DTSTART:20231105T060000
END:STANDARD
BEGIN:DAYLIGHT
TZOFFSETFROM:-0500
TZOFFSETTO:-0400
TZNAME:EDT
DTSTART:20240310T070000
END:DAYLIGHT
BEGIN:STANDARD
TZOFFSETFROM:-0400
TZOFFSETTO:-0500
TZNAME:EST
DTSTART:20241103T060000
END:STANDARD
END:VTIMEZONE
BEGIN:VEVENT
DTSTART;TZID=America/Detroit:20230516T190000
DTEND;TZID=America/Detroit:20230516T210000
DTSTAMP:20260422T235434
CREATED:20230427T162839Z
LAST-MODIFIED:20230508T151126Z
UID:19781-1684263600-1684270800@stage.zingermansroadhouse.com
SUMMARY:Special Event: A Taste of Zingerman’s Food Philosophy With Ari 
DESCRIPTION:Special Event: A Taste of Zingerman’s Food Philosophy With Ari \nTuesday\, May 16th from 7pm to 9pm\n$40 – $60\n\nYou are invited to a special event at the Roadhouse with Ari Weinzweig\, as he talks about his newest pamphlet\, “A Taste of Zingerman’s Food Philosophy”. Did you know that Zingerman’s is not just a place where you can enjoy a life-altering meal? It is also a business born from a special kind of food philosophy. Ari’s new pamphlet\, in his own words\, “takes a long look at the culinary road less traveled”\, and will be hot off the presses just in time for this event! On Tuesday\, May 16th\, we will all get to hear more from Ari about how his beliefs about food and cooking have evolved over the 41 years that have made Zingerman’s a pillar to our community. \nZingerman’s offers quality food where you really can taste the difference because of our food philosophy. See for yourself why this special event is something you do not want to miss. Here is what Ari has to say about his latest work:\n \n“The new pamphlet is\, in part\, my grudging acceptance of what Peter Koestenbaum told me many years ago. “You\, Ari\, [are] a bona fide philosopher.” I feel awkward sharing that statement\, but the wisdom of Peter’s work around philosophy is undeniable. Embracing it in recent years has opened my eyes to new insights and new understandings. The new pamphlet\, as I have come to see it\, puts in print—far more clearly than it has been in my head—the food philosophy that has made Zingerman’s what it is for all these years.\n \n“A Taste of Zingerman’s Food Philosophy” highlights how food philosophy came to matter to Ari\, how it is applied within the Zingerman’s Community of Businesses\, and how everyone can create their own philosophy as well. Here is a summary of what readers will find:   \n\nFour Decades of Food and Philosophy in Action in Ann Arbor  \nThe Zingerman’s Food Philosophy \nPutting Philosophy into Practice: Becoming a Mindful Eater  \nAn ABC of Zingerman’s Food Philosophy  \nHow Food and Cooking Changed My Life  \nCreating a Food Philosophy of Your Own  \nTime to Get Cooking: Recipes You Can Put Together in Your Kitchen \n\nAs Ari stated\, “food and cooking have\, of course\, been the main focus of my work for many decades now\, but as you’ll see in the new pamphlet\, immersing myself into the idea of intertwining our food work with philosophy has given me the frame to make that work ever more effective\, and also more meaningful.”  \nEnjoy delicious appetizers\, including “chicken-fried” mushrooms\, freshly baked breads from Zingerman’s Bakehouse with Zingerman’s Creamery cream cheese\, and fresh locally-grown veggies\, and learn about the philosophy behind tasting the difference here at Zingerman’s. The pamphlet will be available for purchase\, be among the first to own a copy and have it signed! We hope to see you there!  
URL:https://stage.zingermansroadhouse.com/event/special-event-a-taste-of-zingermans-food-philosophy-with-ari/
LOCATION:Zingerman’s Roadhouse\, 2501 Jackson Ave\, Ann Arbor\, MI\, 48103\, United States
ATTACH;FMTTYPE=image/jpeg:https://stage.zingermansroadhouse.com/app/uploads/2023/04/7A20C5F7-22B1-454B-8190-0359146385E1.jpg
ORGANIZER;CN="Zingerman's Roadhouse":MAILTO:roadhouse@zingermans.com
END:VEVENT
END:VCALENDAR