BEGIN:VCALENDAR
VERSION:2.0
PRODID:-//Zingerman&#039;s Roadhouse - ECPv6.15.13.1//NONSGML v1.0//EN
CALSCALE:GREGORIAN
METHOD:PUBLISH
X-WR-CALNAME:Zingerman&#039;s Roadhouse
X-ORIGINAL-URL:https://stage.zingermansroadhouse.com
X-WR-CALDESC:Events for Zingerman&#039;s Roadhouse
REFRESH-INTERVAL;VALUE=DURATION:PT1H
X-Robots-Tag:noindex
X-PUBLISHED-TTL:PT1H
BEGIN:VTIMEZONE
TZID:America/Detroit
BEGIN:DAYLIGHT
TZOFFSETFROM:-0500
TZOFFSETTO:-0400
TZNAME:EDT
DTSTART:20220313T070000
END:DAYLIGHT
BEGIN:STANDARD
TZOFFSETFROM:-0400
TZOFFSETTO:-0500
TZNAME:EST
DTSTART:20221106T060000
END:STANDARD
BEGIN:DAYLIGHT
TZOFFSETFROM:-0500
TZOFFSETTO:-0400
TZNAME:EDT
DTSTART:20230312T070000
END:DAYLIGHT
BEGIN:STANDARD
TZOFFSETFROM:-0400
TZOFFSETTO:-0500
TZNAME:EST
DTSTART:20231105T060000
END:STANDARD
BEGIN:DAYLIGHT
TZOFFSETFROM:-0500
TZOFFSETTO:-0400
TZNAME:EDT
DTSTART:20240310T070000
END:DAYLIGHT
BEGIN:STANDARD
TZOFFSETFROM:-0400
TZOFFSETTO:-0500
TZNAME:EST
DTSTART:20241103T060000
END:STANDARD
END:VTIMEZONE
BEGIN:VEVENT
DTSTART;TZID=America/Detroit:20230928T183000
DTEND;TZID=America/Detroit:20230928T203000
DTSTAMP:20260422T182946
CREATED:20230824T014142Z
LAST-MODIFIED:20230927T195519Z
UID:21519-1695925800-1695933000@stage.zingermansroadhouse.com
SUMMARY:SOLD OUT: Special Book Event: Zingerman's Roadhouse Presents Laura Tillman & Lyndsay C. Green
DESCRIPTION:Zingerman’s Roadhouse is pleased to partner with Literati Bookstore for a one-of-a kind event\, as Laura Tillman discusses her acclaimed book The Migrant Chef: The Life and Times of Lalo García with Lyndsay C. Green of the Detroit Free Press. The event will be held at the Literati Bookstore in Ann Arbor. \nTickets for the special event are $40 and include courses prepared by Chef Bob Bennett and inspired by The Migrant Chef. Also included are Roadhouse mocktails\, as well as $10 off the book if purchased on-site at Literati Bookstore. Craft cocktails will be available for purchase\, featuring Anteel Tequila from Detroit. \n\nDo not miss this unforgettable evening of delicious food and fulfilling conversation with a talented author and a James Beard award-winning journalist. Tickets are limited! \nA book signing will follow the program. \nAbout the book: Born in rural Mexico\, Eduardo “Lalo” García Guzmán and his family left for the United States when he was a child\, picking fruits and vegetables on the migrant route from Florida to Michigan. He worked in Atlanta restaurants as a teenager before being convicted of a robbery\, incarcerated\, and eventually deported. Lalo landed in Mexico City as a new generation of chefs was questioning the hierarchies that had historically privileged European cuisine in elite spaces. At his acclaimed restaurant\, Máximo Bistrot\, he began to craft food that narrated his memories and hopes. \nMexico City-based journalist Laura Tillman spent five years immersively reporting on Lalo’s story: from Máximo’s kitchen to the onion fields of Vidalia\, Georgia\, to Dubai’s first high-end Mexican restaurant\, to Lalo’s hometown of San José de las Pilas. What emerges is a moving portrait of Lalo’s struggle to find authenticity in an industry built on the very inequalities that drove his family to leave their home\, and of the artistic process as Lalo calls on the experiences of his life to create transcendent cuisine. The Migrant Chef offers an unforgettable window into a family’s border-eclipsing dreams\, Mexico’s culinary heritage\, and the making of a chef. \nLaura Tillman is a journalist and the author of The Migrant Chef and The Long Shadow of Small Ghosts. She began her career as a newspaper reporter at the U.S.-Mexico border in 2007\, before moving to Mexico City in 2014. Her reporting\, which focuses primarily on migration\, justice\, and food\, has appeared in the New York Times\, the Los Angeles Times\, and the Nation. She graduated from Vassar College with a degree in international studies and Goucher College with an MFA in nonfiction writing\, where she is currently a member of the faculty. She lives in Mexico City with her family. \nLyndsay C. Green is the James Beard award-winning and Pulitzer finalist dining and restaurant critic at the Detroit Free Press\, where she reviews Detroit-area restaurants\, and shines a light on local food businesses.\n\nMenu \nBlack Bean Sopes \nCorn sopes topped with Camellia black beans & Cotija cheese. \nGazpacho\nShots of chilled tomato and cucumber soup. \nChips & Green Tomato Salsa \nAnn Arbor Tortilla Company chips with green tomato and jalapeño salsa. \nEvent address:  \n124 E. Washington \nAnn Arbor\, MI 48104
URL:https://stage.zingermansroadhouse.com/event/special-book-event-zingermans-roadhouse-presents-laura-tillman-lyndsay-c-green/
LOCATION:Literati Bookstore\, 124 E. Washington\, Ann Arbor\, MI\, 48104\, United States
ATTACH;FMTTYPE=image/png:https://stage.zingermansroadhouse.com/app/uploads/2023/08/9.28.23-INSTORE-1.png
ORGANIZER;CN="Zingerman's Roadhouse":MAILTO:roadhouse@zingermans.com
END:VEVENT
END:VCALENDAR