BEGIN:VCALENDAR
VERSION:2.0
PRODID:-//Zingerman&#039;s Roadhouse - ECPv6.15.13.1//NONSGML v1.0//EN
CALSCALE:GREGORIAN
METHOD:PUBLISH
X-WR-CALNAME:Zingerman&#039;s Roadhouse
X-ORIGINAL-URL:https://stage.zingermansroadhouse.com
X-WR-CALDESC:Events for Zingerman&#039;s Roadhouse
REFRESH-INTERVAL;VALUE=DURATION:PT1H
X-Robots-Tag:noindex
X-PUBLISHED-TTL:PT1H
BEGIN:VTIMEZONE
TZID:America/Detroit
BEGIN:DAYLIGHT
TZOFFSETFROM:-0500
TZOFFSETTO:-0400
TZNAME:EDT
DTSTART:20220313T070000
END:DAYLIGHT
BEGIN:STANDARD
TZOFFSETFROM:-0400
TZOFFSETTO:-0500
TZNAME:EST
DTSTART:20221106T060000
END:STANDARD
BEGIN:DAYLIGHT
TZOFFSETFROM:-0500
TZOFFSETTO:-0400
TZNAME:EDT
DTSTART:20230312T070000
END:DAYLIGHT
BEGIN:STANDARD
TZOFFSETFROM:-0400
TZOFFSETTO:-0500
TZNAME:EST
DTSTART:20231105T060000
END:STANDARD
BEGIN:DAYLIGHT
TZOFFSETFROM:-0500
TZOFFSETTO:-0400
TZNAME:EDT
DTSTART:20240310T070000
END:DAYLIGHT
BEGIN:STANDARD
TZOFFSETFROM:-0400
TZOFFSETTO:-0500
TZNAME:EST
DTSTART:20241103T060000
END:STANDARD
END:VTIMEZONE
BEGIN:VEVENT
DTSTART;TZID=America/Detroit:20231031T190000
DTEND;TZID=America/Detroit:20231031T190000
DTSTAMP:20260422T170141
CREATED:20230729T050614Z
LAST-MODIFIED:20240422T142615Z
UID:20497-1698778800-1698778800@stage.zingermansroadhouse.com
SUMMARY:JOIN THE WAITLIST - Special Event: African American Foodways Dinner with Adrian Miller
DESCRIPTION:An evening in support of The NEW Center and transforming the future.\nTuesday\, September 12th 7:00pm\n$90 with options for additional donations \nThis event is sold out. To join the waitlist\, please email rhcatering@zingermans.com. \nMark your calendars for the biggest event of the year at Zingerman’s Roadhouse! We are thrilled to be able to bring back one of our most beloved special events\, the African American Foodways dinner\, in celebration of our 20th anniversary. More importantly\, we are honored to welcome back our longtime friend Adrian Miller\, and our friends at The NEW Center in Ann Arbor. \nAdrian Miller is a food writer\, James Beard Award winner\, attorney\, and certified barbecue judge. He has been a special guest for previous African American Foodways events at the Roadhouse\, where we have been entranced by his incredible knowledge about the history of African American food. For this event\, we look forward to hearing stories from his award-winning book\, Black Smoke: African Americans and the United States of Barbecue. It’s an in-depth\, intriguing and insightful look at the history of barbecue in Black communities all over the U.S. The four course menu for this dinner will be based on mouth-watering recipes from the book! \nAt this dinner\, we will be raising funds in support of our friends at Ann Arbor’s NEW Center (Nonprofit Enterprise at Work)\, along with their loving and revolutionary work. NEW’s focus is to help those in underserved communities to start and run healthy organizations\, and in doing so help our ecosystem to thrive with more diversity. NEW’s work helps to dismantle systems of oppression and build resilience by cultivating relationships with leaders\, thinkers and visionaries to transform the future of our community. With their partners\, NEW is imagining radical new ways of being and working that ensure every person in our community is seen and supported. \nYodit Mesfin Johnson\, President and CEO of NEW\, says: “We believe that transformative change is achieved by working hand-in-hand with the communities we’re in and those we serve. Whether with grassroots initiative or other values-aligned organizations\, we’re investing in relationships. We’re fostering collaboration and creating platforms for communities to take charge of their own destinies.” \nLast year\, NEW began an inspiring project\, called the NEW Center Transformation\, to take their work to the next level\, and with this dinner we hope to help them achieve their vision. With each ticket purchase\, there will be an opportunity to donate more than the ticket price to NEW. \nThe Roadhouse is honored for this opportunity to celebrate our 20th anniversary by serving our community! Join us at the table for an incredible evening of cultivating relationships over delicious food\, as we hear stories from Adrian Miller and offer support to NEW and the transformation of the future of our community. \nNEW Special Dinner BBQ Menu\nIncluding recipes from Adrian Miller’s book\, Black Smoke. \nPlated Appetizer: \nBBQ Pâté\nPit-smoked whole hog pâté on fried saltines\, with Fred Wheeler’s honey hot sauce. \nFamily Style Entrées \nTexas-Style BBQ Short Ribs \nC.B. “Stubb” Stubblefield’s Austin Texas-style slow-cooked smoked Bar-B-Q Brisket. \nMemphis-Style Chicken \nIn the style of “Big Moe” Cason’s smoked BBQ chicken\, with red tomato BBQ sauce. \nFamily Style Sides \nMashed Potato Salad\nIn the style of the recipe used at the New Zion Missionary Baptist Church in east Texas. With mayo\, yellow mustard\, pickle relish\, green onions\, and hot pepper sauce. \nSmoked Cabbage Slaw \nIn the style of Jason Pough’s east Virginia buttery smoked cabbage. \nRoadhouse Buttermilk Biscuits \nKoolickles \nCherry flavored Kool Aid-soaked pickles\, a deliciously strange\, but old Southern tradition. \nPlated Dessert\nRoadhouse Banana Pudding with Nilla Wafers. \n***Donations can be made on the checkout page!*** \nDonation Levels for NEW:\n– $100: Support visionary leaders\n– $200: Advance cultures of belonging for all\n– $500: Nurture evolving communities\n– $1\,000: Transform the future \nThis event is sold out. To join the waitlist\, please email rhcatering@zingermans.com.
URL:https://stage.zingermansroadhouse.com/event/aafoodways-adrian-miller/
LOCATION:Zingerman’s Roadhouse\, 2501 Jackson Ave\, Ann Arbor\, MI\, 48103\, United States
CATEGORIES:Special Event
ATTACH;FMTTYPE=image/jpeg:https://stage.zingermansroadhouse.com/app/uploads/2023/07/Adrian-Miller-scaled.jpg
ORGANIZER;CN="Zingerman's Roadhouse":MAILTO:roadhouse@zingermans.com
END:VEVENT
END:VCALENDAR