BEGIN:VCALENDAR
VERSION:2.0
PRODID:-//Zingerman&#039;s Roadhouse - ECPv6.15.13.1//NONSGML v1.0//EN
CALSCALE:GREGORIAN
METHOD:PUBLISH
X-WR-CALNAME:Zingerman&#039;s Roadhouse
X-ORIGINAL-URL:https://stage.zingermansroadhouse.com
X-WR-CALDESC:Events for Zingerman&#039;s Roadhouse
REFRESH-INTERVAL;VALUE=DURATION:PT1H
X-Robots-Tag:noindex
X-PUBLISHED-TTL:PT1H
BEGIN:VTIMEZONE
TZID:America/Detroit
BEGIN:DAYLIGHT
TZOFFSETFROM:-0500
TZOFFSETTO:-0400
TZNAME:EDT
DTSTART:20230312T070000
END:DAYLIGHT
BEGIN:STANDARD
TZOFFSETFROM:-0400
TZOFFSETTO:-0500
TZNAME:EST
DTSTART:20231105T060000
END:STANDARD
BEGIN:DAYLIGHT
TZOFFSETFROM:-0500
TZOFFSETTO:-0400
TZNAME:EDT
DTSTART:20240310T070000
END:DAYLIGHT
BEGIN:STANDARD
TZOFFSETFROM:-0400
TZOFFSETTO:-0500
TZNAME:EST
DTSTART:20241103T060000
END:STANDARD
BEGIN:DAYLIGHT
TZOFFSETFROM:-0500
TZOFFSETTO:-0400
TZNAME:EDT
DTSTART:20250309T070000
END:DAYLIGHT
BEGIN:STANDARD
TZOFFSETFROM:-0400
TZOFFSETTO:-0500
TZNAME:EST
DTSTART:20251102T060000
END:STANDARD
END:VTIMEZONE
BEGIN:VEVENT
DTSTART;TZID=America/Detroit:20240507T183000
DTEND;TZID=America/Detroit:20240507T210000
DTSTAMP:20260422T063346
CREATED:20240418T143954Z
LAST-MODIFIED:20240506T185310Z
UID:24379-1715106600-1715115600@stage.zingermansroadhouse.com
SUMMARY:SOLD OUT-Special Event: My Life in Recipes with Joan Nathan
DESCRIPTION:A personal journey discovering Jewish cuisine from around the world.\nThe Roadhouse is so excited to welcome back Jewish cuisine expert and longtime friend\, Joan Nathan\, for an unforgettable evening on Tuesday\, May 7th! We will celebrate the release of her latest cookbook\, My Life in Recipes: Food\, Family\, and Memories\, in which Joan shares stories and recipes from her own family history. \nA tour de force of Jewish cooking\, Joan is a James Beard Award-winning cookbook author (and a University of Michigan grad). With her previous 11 books\, she has gathered timeless and delicious experiences from the far corners of the world to share with us. Touted the “queen of American Jewish cooking” (Houston Chronicle)\, Joan is about to release her most personal book yet\, in which she uses recipes that look back at her family’s history— their arrival in America from Germany; her childhood in postwar New York and Rhode Island; her years in Paris\, New York\, Israel\, and Washington\, DC. This highly-anticipated work offers over 100 recipes\, including some newly released dishes\, two of which will be featured at this dinner! \nWine-lovers will have an option to enjoy the four-course meal with expertly paired selections from Laurentide Winery’s exquisite collection. Susan and Bill Braymer (also University of Michigan grads) will talk us through how the ancient flavors of their New World wines highlight the ancient flavors of Joan’s Old World dishes. The Leelanau vineyard earned its name due to its rich soil that is layered with fossils and minerals left behind by the Laurentide glacier\, which carved the geography of Michigan over 10\,000 years ago. We are thrilled to welcome their expertise for what will be a night to remember! \nDo not miss this event\, as we welcome back our friends Joan Nathan and the Braymers from Laurentide Winery! Joan will also be available for a book signing at the Roadhouse from 4:30-5:30pm for anyone who wants to purchase the book bit cannot attend the dinner. \nMENU\nAppetizer (Family Style)\nTrio of Spreads (V)\nSmoked Whitefish\, Mahammar\, and Galilean Hummus\, served with bagel chips. \nWine Pairing: Laurentide Pinot Gris 2019 \nTable Bread\nScott’s Buttermilk Biscuits (V)\n \nSoup (Plated)\nWild Mushroom Zucchini & Corn (V) \nWine Pairing: Laurentide aMaizing White 2022 \nEntrées (Family Style)\nChicken Cacciatore \nYalanchi Sarman (V)\nArmenian stuffed grape leaves \nMediterranean Salmon\nWith preserved lemon and Za’atar \nPasta (V)\nWith cream\, butter\, SarVecchio parmesan\, turmeric\, and leeks \nWine Pairing\, Choice Of: Laurentide Pinot Noir 2020 or Laurentide Sauvignon Blanc 2021 \nDessert (plated)\nAnn Arbor Schnecken \nWine Pairing: Laurentide Sweet Riesling 2019
URL:https://stage.zingermansroadhouse.com/event/special-event-my-life-in-recipes-with-joan-nathan/
LOCATION:Zingerman’s Roadhouse\, 2501 Jackson Ave\, Ann Arbor\, MI\, 48103\, United States
ATTACH;FMTTYPE=image/jpeg:https://stage.zingermansroadhouse.com/app/uploads/2024/04/joan-nathan-with-book.jpg
ORGANIZER;CN="Zingerman's Roadhouse":MAILTO:roadhouse@zingermans.com
END:VEVENT
BEGIN:VEVENT
DTSTART;TZID=America/Detroit:20240521T180000
DTEND;TZID=America/Detroit:20240521T200000
DTSTAMP:20260422T063346
CREATED:20240418T144530Z
LAST-MODIFIED:20240521T133330Z
UID:24385-1716314400-1716321600@stage.zingermansroadhouse.com
SUMMARY:Special Book Event: Dr. Rob Pasick and A Men’s Guide to Healthy Aging
DESCRIPTION:An evening of insight into mastering your journey!\nThe Roadhouse is thrilled to welcome Harvard-trained corporate psychologist and executive coach\, author\, and longtime friend Dr. Rob Pasick for an evening you won’t want to miss! Dr. Rob will be at the Roadhouse on Tuesday\, May 21st to talk about his latest book\, Men: A Guide to Healthy Aging. \nA pioneer in his field\, Dr. Rob has provided individual and team based coaching to hundreds of individuals and dozens of organizations and corporations. He is also the founder and president of LeadersConnect\, a workshop held at the Roadhouse for many years\, which provides monthly networking events and leadership round tables to the community. As a well-respected and sought after lecturer at the University of Michigan Ross School of Business\, and the Center for Entrepreneurship\, Dr. Rob has led several classes by utilizing his emotional intelligence and balanced leadership approaches. Rob’s passion is to help people achieve success in work and life! \nHis newest book\, Men: A Guide to Healthy Aging is your daily dose of actionable strategies\, tailored to the unique needs of men. The book provides 365 practical ideas for not just mastering your physical health\, but also empowering your mind\, building fulfilling connections\, and living a life you love. As Dr. Rob talks about the book\, he will explore how you can personalize your journey and take control of your aging in a proactive\, structured way that will lead to fulfillment. \nDo not miss this incredible evening with Dr. Rob! We will enjoy delicious appetizers\, make new connections\, and discover how to become more empowered with healthy aging! Books will be available for purchase and autograph. Mingling starts at 6pm\, and the presentation starts at 6:30pm. \nAppetizer Menu\nTrio of Bruschetta (V)\nRoasted red pepper with Creamery Cream Cheese\, roasted mushroom with Creamery Goat Cheese\, and Pesto with SarVecchio Cheese \nPork Pâte\nWith fried saltines \nSweet Potato Fries (V)\nWith spicy mayo
URL:https://stage.zingermansroadhouse.com/event/special-book-event-dr-rob-pasick-and-a-mens-guide-to-healthy-aging/
LOCATION:Zingerman’s Roadhouse\, 2501 Jackson Ave\, Ann Arbor\, MI\, 48103\, United States
ATTACH;FMTTYPE=image/jpeg:https://stage.zingermansroadhouse.com/app/uploads/2024/04/robpasick.jpg
ORGANIZER;CN="Zingerman's Roadhouse":MAILTO:roadhouse@zingermans.com
END:VEVENT
END:VCALENDAR