BEGIN:VCALENDAR
VERSION:2.0
PRODID:-//Zingerman&#039;s Roadhouse - ECPv6.15.13.1//NONSGML v1.0//EN
CALSCALE:GREGORIAN
METHOD:PUBLISH
X-WR-CALNAME:Zingerman&#039;s Roadhouse
X-ORIGINAL-URL:https://stage.zingermansroadhouse.com
X-WR-CALDESC:Events for Zingerman&#039;s Roadhouse
REFRESH-INTERVAL;VALUE=DURATION:PT1H
X-Robots-Tag:noindex
X-PUBLISHED-TTL:PT1H
BEGIN:VTIMEZONE
TZID:America/Detroit
BEGIN:DAYLIGHT
TZOFFSETFROM:-0500
TZOFFSETTO:-0400
TZNAME:EDT
DTSTART:20240310T070000
END:DAYLIGHT
BEGIN:STANDARD
TZOFFSETFROM:-0400
TZOFFSETTO:-0500
TZNAME:EST
DTSTART:20241103T060000
END:STANDARD
BEGIN:DAYLIGHT
TZOFFSETFROM:-0500
TZOFFSETTO:-0400
TZNAME:EDT
DTSTART:20250309T070000
END:DAYLIGHT
BEGIN:STANDARD
TZOFFSETFROM:-0400
TZOFFSETTO:-0500
TZNAME:EST
DTSTART:20251102T060000
END:STANDARD
BEGIN:DAYLIGHT
TZOFFSETFROM:-0500
TZOFFSETTO:-0400
TZNAME:EDT
DTSTART:20260308T070000
END:DAYLIGHT
BEGIN:STANDARD
TZOFFSETFROM:-0400
TZOFFSETTO:-0500
TZNAME:EST
DTSTART:20261101T060000
END:STANDARD
END:VTIMEZONE
BEGIN:VEVENT
DTSTART;TZID=America/Detroit:20250520T180000
DTEND;TZID=America/Detroit:20250520T200000
DTSTAMP:20260421T114727
CREATED:20250402T163144Z
LAST-MODIFIED:20250501T162718Z
UID:29069-1747764000-1747771200@stage.zingermansroadhouse.com
SUMMARY:Special Event: Charles Eisendrath Book Talk
DESCRIPTION:A Night of Stories\, Syrup\, and Small Bites\nTuesday\, May 20th at 6:00 pm | $45-$65 per person\nJoin us for a special evening featuring Michigan author Charles Eisendrath and his newly released memoir\, Downstream from Here: A Foreign Correspondent Discovers Home. \nEisendrath had multiple international assignments for Time magazine as a foreign correspondent and journalist before joining the faculty at the University of Michigan. Shortly thereafter\, he and his wife Julia took over his parents’ 146-acre property\, Overlook Farm\, in Northern Michigan. Splitting time between Ann Arbor and East Jordan\, they worked to restore the land\, planting tart cherry trees and adding maple syrup production\, called Lake Charlevoix Maple™ because theirs is the last working farm on those waters. Eisendrath is also the inventor of an Argentine-style\, open-fire\, wood-burning grill (James Beard called it “Magnificent.”).  \nEisendrath’s life story is filled with adventures seemingly suited for the silver screen\, but Downstream from Here mesmerizes with the seemingly smaller tales of exploring and updating Overlook Farm—and learning about himself in the process. Actor Jeff Daniels says\,  \nWritten with the eye of a journalist\, the prose of a novelist\, and the wit of a humorist\, Downstream from Here takes you on a long walk down the path that leads to a life truly lived. Prepare to be inspired. \nWe think you’ll agree\, an evening with Charles can only go upstream! He’ll be talking about his book\, his farm\, and of course\, the syrup that has become a part of his family’s tradition. (We’ll have jars of this local treasure available for sale\, so you can take a sweet reminder of the evening home with you!) \nTo make the night even tastier\, Chef Bob has crafted a delicious spread of appetizers featuring that very syrup—get ready for maple fried mushroom and grits shooters\, maple pecans and cream cheese crostini\, and maple smoked chicken wings with Alabama BBQ sauce. But that’s not all— the Roadhouse is offering a selection of wine and beer to be included with your ticket! \nThis is a one-of-a-kind event you won’t want to miss. It’s a chance to savor fabulous food\, and a deeper connection to the land\, the people\, and the stories that make Michigan so special. Join us for a special evening celebrating food\, books\, and the sweet things in life. \nWe would like to thank the University of Michigan’s Wallace House Center for Journalists for their sponsorship of this event! Seats are limited\, so be sure to reserve yours soon. We look forward to sharing an unforgettable night with you! \nMenu\nRoadhouse selection of our favorite beer and wine pours! \nMaple Fried Mushroom & Grits Shooters\nMaple Pecans & Creamery Cream Cheese Crostini\nMaple Smoked Chicken Wings with Alabama BBQ Sauce
URL:https://stage.zingermansroadhouse.com/event/special-event-charles-eisendrath-book-talk/
LOCATION:Zingerman’s Roadhouse\, 2501 Jackson Ave\, Ann Arbor\, MI\, 48103\, United States
ATTACH;FMTTYPE=image/jpeg:https://stage.zingermansroadhouse.com/app/uploads/2025/04/lMci2d6r-scaled.jpeg
END:VEVENT
END:VCALENDAR