BEGIN:VCALENDAR
VERSION:2.0
PRODID:-//Zingerman&#039;s Roadhouse - ECPv6.15.13.1//NONSGML v1.0//EN
CALSCALE:GREGORIAN
METHOD:PUBLISH
X-WR-CALNAME:Zingerman&#039;s Roadhouse
X-ORIGINAL-URL:https://stage.zingermansroadhouse.com
X-WR-CALDESC:Events for Zingerman&#039;s Roadhouse
REFRESH-INTERVAL;VALUE=DURATION:PT1H
X-Robots-Tag:noindex
X-PUBLISHED-TTL:PT1H
BEGIN:VTIMEZONE
TZID:America/Detroit
BEGIN:DAYLIGHT
TZOFFSETFROM:-0500
TZOFFSETTO:-0400
TZNAME:EDT
DTSTART:20240310T070000
END:DAYLIGHT
BEGIN:STANDARD
TZOFFSETFROM:-0400
TZOFFSETTO:-0500
TZNAME:EST
DTSTART:20241103T060000
END:STANDARD
BEGIN:DAYLIGHT
TZOFFSETFROM:-0500
TZOFFSETTO:-0400
TZNAME:EDT
DTSTART:20250309T070000
END:DAYLIGHT
BEGIN:STANDARD
TZOFFSETFROM:-0400
TZOFFSETTO:-0500
TZNAME:EST
DTSTART:20251102T060000
END:STANDARD
BEGIN:DAYLIGHT
TZOFFSETFROM:-0500
TZOFFSETTO:-0400
TZNAME:EDT
DTSTART:20260308T070000
END:DAYLIGHT
BEGIN:STANDARD
TZOFFSETFROM:-0400
TZOFFSETTO:-0500
TZNAME:EST
DTSTART:20261101T060000
END:STANDARD
END:VTIMEZONE
BEGIN:VEVENT
DTSTART;TZID=America/Detroit:20250701T180000
DTEND;TZID=America/Detroit:20250701T203000
DTSTAMP:20260421T084004
CREATED:20250521T181620Z
LAST-MODIFIED:20250609T122612Z
UID:29546-1751392800-1751401800@stage.zingermansroadhouse.com
SUMMARY:Special Event: Dinner and a Drag Show
DESCRIPTION:A night of performance art at the Roadhouse\n\nTuesday\, July 1st 6:00-8:30pm | $25-$70/person\nThis event is SOLD OUT\, but please email us at rhcatering@zingermans.com to be added to a waitlist!\nIt’s time to book your seats for the event of the summer! On Tuesday\, July 1st\, the Roadhouse invites you to join us as we conclude our celebration of Pride Month with Dinner and a Drag Show! The Roadhouse is excited to honor our local queer community by showcasing its vibrant and vivacious performance art in our newly renovated patio space! Hosted by Drama St. Cyr and SirGin\, this event will feature a sensational lineup of eight local drag artists who each bring something unique to the dinner table. A delicious buffet is available for additional purchase\, or attendees can order from our full dinner menu. Whether or not you choose to dine with us\, everyone is encouraged to engage with the performers throughout the evening! A portion of the proceeds from this event will go to Jim Toy Community Center\, a LGBTQ+ resource and advocacy organization in Ann Arbor.\n\nThis event will sell out fast\, make sure to reserve your spot! See you there! \nBuffet\nSalad\nKale & Pine Nut Salad (V\, GF) \nSides\nRoadhouse Mac & Cheese (V)\nSeasonal Roasted Vegetables (Vegan\, GF) \nEntrées\nButtermilk Fried Chicken\nBBQ Brisket \nDessert\nZingerman’s Bakehouse Pride Cupcake \n  \nPlease select number of tickets before clicking on the Get Tickets button
URL:https://stage.zingermansroadhouse.com/event/special-event-dinner-and-a-drag-show/
LOCATION:Zingerman’s Roadhouse\, 2501 Jackson Ave\, Ann Arbor\, MI\, 48103\, United States
ATTACH;FMTTYPE=image/jpeg:https://stage.zingermansroadhouse.com/app/uploads/2025/05/Final-1-copy-scaled.jpg
END:VEVENT
END:VCALENDAR